BEGIN:VCALENDAR
VERSION:2.0
PRODID:-//Cyprus Churches - ECPv6.15.17//NONSGML v1.0//EN
CALSCALE:GREGORIAN
METHOD:PUBLISH
X-WR-CALNAME:Cyprus Churches
X-ORIGINAL-URL:https://cyprus-churches.com
X-WR-CALDESC:Events for Cyprus Churches
REFRESH-INTERVAL;VALUE=DURATION:PT1H
X-Robots-Tag:noindex
X-PUBLISHED-TTL:PT1H
BEGIN:VTIMEZONE
TZID:Europe/Athens
BEGIN:DAYLIGHT
TZOFFSETFROM:+0200
TZOFFSETTO:+0300
TZNAME:EEST
DTSTART:20240331T010000
END:DAYLIGHT
BEGIN:STANDARD
TZOFFSETFROM:+0300
TZOFFSETTO:+0200
TZNAME:EET
DTSTART:20241027T010000
END:STANDARD
BEGIN:DAYLIGHT
TZOFFSETFROM:+0200
TZOFFSETTO:+0300
TZNAME:EEST
DTSTART:20250330T010000
END:DAYLIGHT
BEGIN:STANDARD
TZOFFSETFROM:+0300
TZOFFSETTO:+0200
TZNAME:EET
DTSTART:20251026T010000
END:STANDARD
BEGIN:DAYLIGHT
TZOFFSETFROM:+0200
TZOFFSETTO:+0300
TZNAME:EEST
DTSTART:20260329T010000
END:DAYLIGHT
BEGIN:STANDARD
TZOFFSETFROM:+0300
TZOFFSETTO:+0200
TZNAME:EET
DTSTART:20261025T010000
END:STANDARD
END:VTIMEZONE
BEGIN:VTIMEZONE
TZID:UTC
BEGIN:STANDARD
TZOFFSETFROM:+0000
TZOFFSETTO:+0000
TZNAME:UTC
DTSTART:20240101T000000
END:STANDARD
END:VTIMEZONE
BEGIN:VEVENT
DTSTART;TZID=Europe/Athens:20250607T180000
DTEND;TZID=Europe/Athens:20250607T210000
DTSTAMP:20260420T005659
CREATED:20250206T102238Z
LAST-MODIFIED:20260123T144237Z
UID:682-1749319200-1749330000@cyprus-churches.com
SUMMARY:Worship Night in Larnaca
DESCRIPTION:We are invited to a\nWorship Night in Larnaca\nby @worshipincyprus Team\n  \n\nShout for joy to the Lord\, all the earth. \nWorship the Lord with gladness\, \nCome before Him with joyful songs \nPsalm 100:1-2
URL:https://cyprus-churches.com/event/worship-night-in-larnaca/
LOCATION:American Academy Larnaca\, Grigori Afxentiou 32\, Avenue\, Larnaca\, Larnaca\, 6021\, Cyprus
CATEGORIES:Larnaca
END:VEVENT
BEGIN:VEVENT
DTSTART;TZID=UTC:20250620T180000
DTEND;TZID=UTC:20250620T210000
DTSTAMP:20260420T005659
CREATED:20250509T101728Z
LAST-MODIFIED:20260123T144202Z
UID:1031-1750442400-1750453200@cyprus-churches.com
SUMMARY:Prayer and Worship Night
DESCRIPTION:WITRIM\, Larnaca\nis inviting for a\nPrayer and Worship Night\n  \n𝗪e e𝘅𝗽𝗲𝗿𝗶𝗲𝗻𝗰𝗲 𝗶𝘀 𝗮 𝘄𝗼𝗿𝘀𝗵𝗶𝗽 𝗮𝗻𝗱 𝗽𝗿𝗮𝘆𝗲𝗿 𝘀𝗼𝗮𝗸𝗶𝗻𝗴 𝗰𝗼𝗻𝘃𝗲𝗿𝗴𝗲𝗻𝗰𝗲. 𝗔 𝗽𝗹𝗮𝘁𝗳𝗼𝗿𝗺 𝗯𝘂𝗶𝗹t 𝗼𝗻 𝗚𝗼𝗱’𝘀 𝘄𝗼𝗿𝗱\, 𝘁𝗮𝗿𝗴𝗲𝘁𝗲𝗱 𝗮𝘁 𝘂𝗻𝗶𝘁𝗶𝗻𝗴 𝘆𝗼𝘂𝗻𝗴 𝗰𝗵𝘂𝗿𝗰𝗵 𝗺𝗶𝗻𝗶𝘀𝘁𝗲𝗿𝘀 𝗮𝗻𝗱 𝗟𝗲𝗮𝗱𝗲𝗿𝘀 𝘁𝗵𝗿𝗼𝘂𝗴𝗵 𝘁𝗵𝗲 𝗮𝗰𝘁 𝗼𝗳 𝗪𝗼𝗿𝘀𝗵𝗶𝗽 𝗮𝗻𝗱 𝗲𝗻𝘀𝘂𝗿𝗶𝗻𝗴 𝘁𝗼𝘁𝗮𝗹 𝗥𝗲𝗮𝗹𝗶𝗴𝗺𝗲𝗻𝘁 𝘁𝗼 𝗚𝗼𝗱’𝘀 𝗽𝘂𝗿𝗽𝗼𝘀𝗲𝘀 𝗳𝗼𝗿 𝗼𝘂𝗿 𝗹𝗶𝘃𝗲𝘀 𝗮𝗻𝗱 𝗺𝗶𝗻𝗶𝘀𝘁𝗿𝗶𝗲𝘀 𝗮𝘀 𝗶𝘁 𝘄𝗮𝘀 𝗶𝗻 𝗔𝗰𝘁 𝗰𝗵𝗮𝗽𝘁𝗲𝗿 𝟮.\n\nMinistering:\n● Min. LAWBUKA SAX\n● Min. Jonathan\n● Min. Osinachi\n● Min. Franklin\n● Min. Josephine\n● Min. Faith\n● And Lots More\n\nHost – Min. Joseph Nana Tehmeh (In Partnership with Majestic Choir WITRIM LARNACA)\n\nFEATURING – Worship Praise Word\, Worship worship\nVenue: Church AUDITORIUM OPPOSITE MONOGRAM STORE CITY CENTER LARNACA\n\nThere are things Prayers Can Do\, but there are things Only WORSHIP can Handle
URL:https://cyprus-churches.com/event/prayer-and-wroship-lca/
LOCATION:Witrim Larnaca\, 25 Galileou street\, Larnaca\, 6023\, Cyprus
CATEGORIES:Larnaca
END:VEVENT
BEGIN:VEVENT
DTSTART;TZID=UTC:20250621T093000
DTEND;TZID=UTC:20250621T110000
DTSTAMP:20260420T005659
CREATED:20250329T080820Z
LAST-MODIFIED:20260123T144155Z
UID:836-1750498200-1750503600@cyprus-churches.com
SUMMARY:Womens Fellowship Breakfast
DESCRIPTION:Larnaca Community Church is organizing a Womens’ Fellowship Breakfast\nThe event will take place at Alexander Restaurant\, Finikoudes\, Larnaca \nRegistration is necessary! Please register here \nCost: 6 euro \nCome and be blessed!
URL:https://cyprus-churches.com/event/womens-fellowship-breakfast-2/
LOCATION:Alexanders Restaurant along sea front\, Athinon Avenue 101\, Larnaca\, Larnaca\, 6023\, Cyprus
CATEGORIES:Larnaca
END:VEVENT
END:VCALENDAR