BEGIN:VCALENDAR
VERSION:2.0
PRODID:-//Cyprus Churches - ECPv6.15.17//NONSGML v1.0//EN
CALSCALE:GREGORIAN
METHOD:PUBLISH
X-WR-CALNAME:Cyprus Churches
X-ORIGINAL-URL:https://cyprus-churches.com
X-WR-CALDESC:Events for Cyprus Churches
REFRESH-INTERVAL;VALUE=DURATION:PT1H
X-Robots-Tag:noindex
X-PUBLISHED-TTL:PT1H
BEGIN:VTIMEZONE
TZID:UTC
BEGIN:STANDARD
TZOFFSETFROM:+0000
TZOFFSETTO:+0000
TZNAME:UTC
DTSTART:20240101T000000
END:STANDARD
END:VTIMEZONE
BEGIN:VEVENT
DTSTART;TZID=UTC:20250914T103000
DTEND;TZID=UTC:20250914T133000
DTSTAMP:20260419T200318
CREATED:20250430T150727Z
LAST-MODIFIED:20251224T103041Z
UID:979-1757845800-1757856600@cyprus-churches.com
SUMMARY:Nepalese Fellowship in Larnaca
DESCRIPTION:Unity in Mission – Nepal Youth Ministry\nwarmly invites you to a joyful outdoor fellowship at Children Park in Larnaca. Come and enjoy a day of worship\, prayer\, and uplifting conversations under the open sky. There will be singing\, testimonies\, and time to connect\, encourage one another\, and share God’s love. Families and friends are welcome — bring your picnic blankets and join us for an afternoon of community and celebration!\nPicnic in Children Park in Larnaca\n  \nप्रिय साथीहरू\, हाम्रो नेपाली क्रिश्चियन समुदाय तपाईंलाई लारनाका स्थित चिल्ड्रेन पार्कमा हुने विशेष भेटघाटमा हार्दिक निमन्त्रणा गर्दछ।हामी संगै आराधना गर्नेछौं\, प्रार्थना गर्नेछौं\, र परमेश्वरको प्रेम साझेदारी गर्नेछौं। तपाईंको परिवार र साथीहरूलाई लिएर आउनुहोस्\, हामी सबै स्वागत छौं!
URL:https://cyprus-churches.com/event/nepalese-fellowship-in-larnaca/
LOCATION:Larnaca
CATEGORIES:Larnaca
END:VEVENT
END:VCALENDAR