BEGIN:VCALENDAR
VERSION:2.0
PRODID:-//Cyprus Churches - ECPv6.15.17//NONSGML v1.0//EN
CALSCALE:GREGORIAN
METHOD:PUBLISH
X-WR-CALNAME:Cyprus Churches
X-ORIGINAL-URL:https://cyprus-churches.com
X-WR-CALDESC:Events for Cyprus Churches
REFRESH-INTERVAL;VALUE=DURATION:PT1H
X-Robots-Tag:noindex
X-PUBLISHED-TTL:PT1H
BEGIN:VTIMEZONE
TZID:UTC
BEGIN:STANDARD
TZOFFSETFROM:+0000
TZOFFSETTO:+0000
TZNAME:UTC
DTSTART:20240101T000000
END:STANDARD
END:VTIMEZONE
BEGIN:VEVENT
DTSTART;TZID=UTC:20251016T180000
DTEND;TZID=UTC:20251019T140000
DTSTAMP:20260419T183301
CREATED:20250825T102730Z
LAST-MODIFIED:20251224T102853Z
UID:1369-1760637600-1760882400@cyprus-churches.com
SUMMARY:Grace Conference in Larnaca
DESCRIPTION:WITRIM\, Larnaca\nis inviting for a Conference\nTheme: Joseph’s Dominion\n  \nSpeakers:\nPastor Vincent Yella\, Cyprus\nApostle Efon Brillant\, Canada\nBishop Dr. Phinehas Kinuthia\, USA\n  \nOctober 16\, (Thur) – October 18 (Sat): 6 pm\nOctober 18 (Sat): Pastors and Ministers session: 10 am\nOctober 19 (Sun): 10 am
URL:https://cyprus-churches.com/event/grace-conference-in-larnaca/
LOCATION:Witrim Larnaca\, 25 Galileou street\, Larnaca\, 6023\, Cyprus
CATEGORIES:Larnaca
END:VEVENT
END:VCALENDAR