BEGIN:VCALENDAR
VERSION:2.0
PRODID:-//Cyprus Churches - ECPv6.15.17//NONSGML v1.0//EN
CALSCALE:GREGORIAN
METHOD:PUBLISH
X-ORIGINAL-URL:https://cyprus-churches.com
X-WR-CALDESC:Events for Cyprus Churches
REFRESH-INTERVAL;VALUE=DURATION:PT1H
X-Robots-Tag:noindex
X-PUBLISHED-TTL:PT1H
BEGIN:VTIMEZONE
TZID:UTC
BEGIN:STANDARD
TZOFFSETFROM:+0000
TZOFFSETTO:+0000
TZNAME:UTC
DTSTART:20240101T000000
END:STANDARD
END:VTIMEZONE
BEGIN:VTIMEZONE
TZID:Europe/Helsinki
BEGIN:DAYLIGHT
TZOFFSETFROM:+0200
TZOFFSETTO:+0300
TZNAME:EEST
DTSTART:20240331T010000
END:DAYLIGHT
BEGIN:STANDARD
TZOFFSETFROM:+0300
TZOFFSETTO:+0200
TZNAME:EET
DTSTART:20241027T010000
END:STANDARD
BEGIN:DAYLIGHT
TZOFFSETFROM:+0200
TZOFFSETTO:+0300
TZNAME:EEST
DTSTART:20250330T010000
END:DAYLIGHT
BEGIN:STANDARD
TZOFFSETFROM:+0300
TZOFFSETTO:+0200
TZNAME:EET
DTSTART:20251026T010000
END:STANDARD
BEGIN:DAYLIGHT
TZOFFSETFROM:+0200
TZOFFSETTO:+0300
TZNAME:EEST
DTSTART:20260329T010000
END:DAYLIGHT
BEGIN:STANDARD
TZOFFSETFROM:+0300
TZOFFSETTO:+0200
TZNAME:EET
DTSTART:20261025T010000
END:STANDARD
END:VTIMEZONE
BEGIN:VTIMEZONE
TZID:Europe/Athens
BEGIN:DAYLIGHT
TZOFFSETFROM:+0200
TZOFFSETTO:+0300
TZNAME:EEST
DTSTART:20240331T010000
END:DAYLIGHT
BEGIN:STANDARD
TZOFFSETFROM:+0300
TZOFFSETTO:+0200
TZNAME:EET
DTSTART:20241027T010000
END:STANDARD
BEGIN:DAYLIGHT
TZOFFSETFROM:+0200
TZOFFSETTO:+0300
TZNAME:EEST
DTSTART:20250330T010000
END:DAYLIGHT
BEGIN:STANDARD
TZOFFSETFROM:+0300
TZOFFSETTO:+0200
TZNAME:EET
DTSTART:20251026T010000
END:STANDARD
BEGIN:DAYLIGHT
TZOFFSETFROM:+0200
TZOFFSETTO:+0300
TZNAME:EEST
DTSTART:20260329T010000
END:DAYLIGHT
BEGIN:STANDARD
TZOFFSETFROM:+0300
TZOFFSETTO:+0200
TZNAME:EET
DTSTART:20261025T010000
END:STANDARD
END:VTIMEZONE
BEGIN:VEVENT
DTSTART;TZID=UTC:20250322T130000
DTEND;TZID=UTC:20250322T150000
DTSTAMP:20260419T121500
CREATED:20250317T104027Z
LAST-MODIFIED:20260123T144555Z
UID:791-1742648400-1742655600@cyprus-churches.com
SUMMARY:Welcome Lunch
DESCRIPTION:Freedom Church Limassol\nis inviting for\nWELCOME LUNCH\n  \nSaturday\, March 22 at 1 pm\nAsk them for location in Instagram \n 
URL:https://cyprus-churches.com/event/welcome-lunch/
CATEGORIES:Larnaca
END:VEVENT
BEGIN:VEVENT
DTSTART;TZID=Europe/Helsinki:20250315T093000
DTEND;TZID=Europe/Helsinki:20250315T110000
DTSTAMP:20260419T121500
CREATED:20250304T154813Z
LAST-MODIFIED:20260123T144611Z
UID:754-1742031000-1742036400@cyprus-churches.com
SUMMARY:Women’s Fellowship Breakfast
DESCRIPTION:Larnaca Community Church is organizing a Womens’ Fellowship Breakfast\nThe event will take place at Alexander Restaurant\, Finikoudes\, Larnaca \nRegistration is necessary! Please register here \nCost: 6 euro \nCome and be blessed!
URL:https://cyprus-churches.com/event/womens-fellowship-breakfast/
LOCATION:Alexanders Restaurant along sea front\, Athinon Avenue 101\, Larnaca\, Larnaca\, 6023\, Cyprus
CATEGORIES:Larnaca
END:VEVENT
BEGIN:VEVENT
DTSTART;VALUE=DATE:20250215
DTEND;VALUE=DATE:20250216
DTSTAMP:20260419T121500
CREATED:20250203T123226Z
LAST-MODIFIED:20260123T144711Z
UID:666-1739577600-1739663999@cyprus-churches.com
SUMMARY:Women's Fellowship Breakfast in Larnaca
DESCRIPTION:Larnaca Community Church is organizing a Womens’ Fellowship Breakfast\nThe event will take place at Alexander Restaurant\, Finikoudes\, Larnaca \nRegistration is necessary! Please register here \nCost: 6 euro \n\nCome and be blessed!
URL:https://cyprus-churches.com/event/womens-fellowship-breakfast-in-larnaca/
LOCATION:Larnaca Community Church\, 7 Pythagorou\, Dromolaxia\, Larnaca\, Larnaca\, 7020\, Cyprus
CATEGORIES:Larnaca
END:VEVENT
END:VCALENDAR