BEGIN:VCALENDAR
VERSION:2.0
PRODID:-//Cyprus Churches - ECPv6.15.17//NONSGML v1.0//EN
CALSCALE:GREGORIAN
METHOD:PUBLISH
X-WR-CALNAME:Cyprus Churches
X-ORIGINAL-URL:https://cyprus-churches.com
X-WR-CALDESC:Events for Cyprus Churches
REFRESH-INTERVAL;VALUE=DURATION:PT1H
X-Robots-Tag:noindex
X-PUBLISHED-TTL:PT1H
BEGIN:VTIMEZONE
TZID:UTC
BEGIN:STANDARD
TZOFFSETFROM:+0000
TZOFFSETTO:+0000
TZNAME:UTC
DTSTART:20240101T000000
END:STANDARD
END:VTIMEZONE
BEGIN:VEVENT
DTSTART;TZID=UTC:20251224T230000
DTEND;TZID=UTC:20251225T003000
DTSTAMP:20260424T131124
CREATED:20251224T093718Z
LAST-MODIFIED:20251224T102013Z
UID:1793-1766617200-1766622600@cyprus-churches.com
SUMMARY:Christmas Eve Service
DESCRIPTION:Christmas Eve • Cyprus \nChristmas Eve Service\nYou are warmly invited to a special Christmas Eve Service at\n\nTrinity Evangelical Church\n.\nCome as we gather late on Christmas Eve to worship Jesus Christ—the Light of the World—and celebrate the hope of His coming with reverence\, joy\, and gratitude. \n\n\nDate: Wednesday\, 24 December 2025 \nTime: 23:00 (EET) \nLocation: Trinity Evangelical Church\, Cyprus \n\n\nWhat to expect\n\nWorship and Christmas praise\nA Christ-centered message for Christmas Eve\nPrayer and a meaningful moment to reflect and give thanks\nA warm\, welcoming atmosphere for families and friends\n\n\nBring someone with you and come expectant. Let’s honor Christ together on this holy night.
URL:https://cyprus-churches.com/event/christmas-eve-service/
LOCATION:Trinity Evangelical Church\, Grigori Afxentiou Ave\, Larnaca\, 6021\, Cyprus
CATEGORIES:Larnaca
ATTACH;FMTTYPE=image/jpeg:https://cyprus-churches.com/wp-content/uploads/2025/12/christmas-eve-service.jpg
ORGANIZER;CN="Trinity Evangelical Church":MAILTO:tec.larnaca@gmail.com
END:VEVENT
BEGIN:VEVENT
DTSTART;TZID=UTC:20251231T210000
DTEND;TZID=UTC:20260101T010000
DTSTAMP:20260424T131124
CREATED:20251224T092514Z
LAST-MODIFIED:20251224T101906Z
UID:1783-1767214800-1767229200@cyprus-churches.com
SUMMARY:Crossover Night
DESCRIPTION:New Year’s Eve Service • Larnaca\, Cyprus \nCrossover Night\nJoin \nWitness of the Truth International Mission (Larnaca)\nas we close out the year in prayer\, worship\, and thanksgiving—crossing into the new year together with faith and expectation. \n\n\nDate: Wednesday\, 31 December 2025 \nTime: 21:00 \nLocation: Witness of the Truth International Mission\, Larnaca \nHost: Pastor Stephan Dobgima \n\n\nWhat to expect\n\nWorship and thanksgiving as we reflect on God’s faithfulness in 2025\nFocused prayer as we dedicate the new year to the Lord\nAn encouraging message to step into 2026 with confidence and hope\nA warm church-family atmosphere—everyone is welcome\n\n\nBring a friend and come expectant. Let’s cross over together in God’s presence.
URL:https://cyprus-churches.com/event/crossover-night/
LOCATION:Witrim Larnaca\, 25 Galileou street\, Larnaca\, 6023\, Cyprus
CATEGORIES:Larnaca
ATTACH;FMTTYPE=image/jpeg:https://cyprus-churches.com/wp-content/uploads/2025/12/crossover-night.jpg
END:VEVENT
BEGIN:VEVENT
DTSTART;TZID=UTC:20260321T180000
DTEND;TZID=UTC:20260321T210000
DTSTAMP:20260424T131124
CREATED:20260224T131705Z
LAST-MODIFIED:20260224T131705Z
UID:1977-1774116000-1774126800@cyprus-churches.com
SUMMARY:Worship Night
DESCRIPTION:Worship Night • Larnaca American Academy • Cyprus \nWorship Night with @worshipincyprus\n25 March 2026  |  6:30 PM \nJoin us for a powerful evening of worship and praise at Larnaca American Academy.\nLet’s lift up the name of Jesus together\, unite in worship\, and experience His presence in a special way.\nAll are welcome — bring your friends and family. \n\n\n\nEvent Details\n\n\nWhen \n25 March 2026 \n\n\nTime \n6:30 PM (local time) \n\n\nWhere \nLarnaca American Academy\nLarnaca\, Cyprus \n\n\nOrganizer \n@worshipincyprus team \n\n\n\n\nWhat to Expect at Worship Night in Larnaca\nLooking for a worship night in Cyprus or a\nChristian praise event in Larnaca? This evening is designed\nto bring believers together in unity\, worship\, and expectation. \n\nLive worship led by the @worshipincyprus team\nPraise\, prayer\, and a focused time to lift up the name of Jesus\nA welcoming atmosphere for individuals\, families\, youth\, and visitors\nInvite your friends and family — everyone is welcome\n\nCome with an open heart.\nExpect God to move as we worship together in Larnaca.\n\n\nWorship Night — FAQ\n\nWhat time does the event start?\n6:30 PM on 25 March 2026. \n\n\nWhere is the event located?\nLarnaca American Academy in Larnaca\, Cyprus. \n\n\nIs it free to attend?\nYes\, this worship night is open to everyone. \n\n\nCan I bring friends and family?\nAbsolutely — all are welcome. \n\n\nKeywords: Worship Night Cyprus\, worship in Larnaca\, Christian praise night Cyprus\,\nLarnaca American Academy event\, @worshipincyprus\, evening worship Cyprus\,\nchurch gathering Larnaca\, Jesus worship night Cyprus.
URL:https://cyprus-churches.com/event/worship-night-march-21/
LOCATION:American Academy Larnaca\, Grigori Afxentiou 32\, Avenue\, Larnaca\, Larnaca\, 6021\, Cyprus
CATEGORIES:Larnaca
ATTACH;FMTTYPE=image/jpeg:https://cyprus-churches.com/wp-content/uploads/2026/02/worship-night.jpg
END:VEVENT
BEGIN:VEVENT
DTSTART;TZID=UTC:20260425T150000
DTEND;TZID=UTC:20260425T180000
DTSTAMP:20260424T131124
CREATED:20260327T143827Z
LAST-MODIFIED:20260327T143827Z
UID:2032-1777129200-1777140000@cyprus-churches.com
SUMMARY:Island Wide Youth Event
DESCRIPTION:Island-Wide Youth Event in Larnaca (Ages 12–18)\nA special gathering for teenagers across Cyprus — connection\, faith\, and inspiration. \n\nJoin us for an exciting Island-Wide Youth Event bringing together young people from all over Cyprus!\nThis is a unique opportunity for teenagers to meet new friends\, grow in faith\, and be part of a vibrant Christian community. \nThe event will include engaging sessions\, worship\, interactive activities\, and meaningful conversations in a welcoming and uplifting atmosphere. \n\n📅 Date: April 25\, 2026 \n⏰ Time: 15:00 – 18:00 \n📍 Location:\n\nGreek Evangelical Church\, Larnaca\n \n👥 Age Group: Teenagers 12–18 years old \n\nWhether you are already part of a church or just curious\, you are welcome to come and experience a powerful time of unity and encouragement. \nBring your friends and be ready for an unforgettable afternoon! \n\n\nKeywords:\nyouth event Cyprus\, Christian youth Larnaca\, teen church event Cyprus\, youth gathering Cyprus April 2026\, teenagers church event Larnaca\, Christian youth meeting Cyprus\, youth worship Cyprus\, church events for teens Cyprus
URL:https://cyprus-churches.com/event/island-wide-youth-event-3/
LOCATION:Greek Evangelical Church Larnaca\, Grigori Afxentiou Ave.\, 32\, Larnaca\, Larnaca\, 6021\, Cyprus
CATEGORIES:Larnaca
ATTACH;FMTTYPE=image/jpeg:https://cyprus-churches.com/wp-content/uploads/2026/03/island-wide-youth-event.jpg
END:VEVENT
END:VCALENDAR