BEGIN:VCALENDAR
VERSION:2.0
PRODID:-//Cyprus Churches - ECPv6.15.17//NONSGML v1.0//EN
CALSCALE:GREGORIAN
METHOD:PUBLISH
X-WR-CALNAME:Cyprus Churches
X-ORIGINAL-URL:https://cyprus-churches.com
X-WR-CALDESC:Events for Cyprus Churches
REFRESH-INTERVAL;VALUE=DURATION:PT1H
X-Robots-Tag:noindex
X-PUBLISHED-TTL:PT1H
BEGIN:VTIMEZONE
TZID:UTC
BEGIN:STANDARD
TZOFFSETFROM:+0000
TZOFFSETTO:+0000
TZNAME:UTC
DTSTART:20240101T000000
END:STANDARD
END:VTIMEZONE
BEGIN:VEVENT
DTSTART;TZID=UTC:20250719T130000
DTEND;TZID=UTC:20250719T170000
DTSTAMP:20260419T200443
CREATED:20250718T085521Z
LAST-MODIFIED:20260123T143933Z
UID:1295-1752930000-1752944400@cyprus-churches.com
SUMMARY:Church Retreat
DESCRIPTION:The Church of Pentecost North Cyprus\nis inviting for a\nChurch Retreat\nTheme: DWELL (Psalm 91:1)
URL:https://cyprus-churches.com/event/church-retreat/
LOCATION:The Church of Pentecost North Cyprus\, Gazeteci Kemal Aşık Caddesi 1\, Lefkoşa\, 99010\, Cyprus
CATEGORIES:North Cyprus
END:VEVENT
END:VCALENDAR