BEGIN:VCALENDAR
VERSION:2.0
PRODID:-//Cyprus Churches - ECPv6.15.17//NONSGML v1.0//EN
CALSCALE:GREGORIAN
METHOD:PUBLISH
X-WR-CALNAME:Cyprus Churches
X-ORIGINAL-URL:https://cyprus-churches.com
X-WR-CALDESC:Events for Cyprus Churches
REFRESH-INTERVAL;VALUE=DURATION:PT1H
X-Robots-Tag:noindex
X-PUBLISHED-TTL:PT1H
BEGIN:VTIMEZONE
TZID:UTC
BEGIN:STANDARD
TZOFFSETFROM:+0000
TZOFFSETTO:+0000
TZNAME:UTC
DTSTART:20240101T000000
END:STANDARD
END:VTIMEZONE
BEGIN:VEVENT
DTSTART;TZID=UTC:20251018T160000
DTEND;TZID=UTC:20251018T190000
DTSTAMP:20260419T151732
CREATED:20251018T061430Z
LAST-MODIFIED:20251224T102833Z
UID:1514-1760803200-1760814000@cyprus-churches.com
SUMMARY:Worship & Impartation Night
DESCRIPTION:Worship & Impartation Night — Atmosphere of His Presence by the Church of Pentecost North Cyprus\nTheme: Empowered by the Spirit \nSaturday\, October 184:00 PM – 7:00 PMNicosia (Lefkosia) \nJoin us for a powerful Worship and Impartation Night led by LIWC Choir.Step into an atmosphere filled with God’s presence\, where hearts are transformed\, faith is strengthened\, and the Holy Spirit empowers. \nCome expecting a night of worship\, prayer\, and a fresh touch from God.✨ Free entry — everyone is welcome!
URL:https://cyprus-churches.com/event/worship-impartation-night/
LOCATION:The Church of Pentecost North Cyprus\, Gazeteci Kemal Aşık Caddesi 1\, Lefkoşa\, 99010\, Cyprus
CATEGORIES:North Cyprus
ATTACH;FMTTYPE=image/jpeg:https://cyprus-churches.com/wp-content/uploads/2025/10/worship-and-impartation-night.jpg
END:VEVENT
END:VCALENDAR