BEGIN:VCALENDAR
VERSION:2.0
PRODID:-//Cyprus Churches - ECPv6.15.17//NONSGML v1.0//EN
CALSCALE:GREGORIAN
METHOD:PUBLISH
X-ORIGINAL-URL:https://cyprus-churches.com
X-WR-CALDESC:Events for Cyprus Churches
REFRESH-INTERVAL;VALUE=DURATION:PT1H
X-Robots-Tag:noindex
X-PUBLISHED-TTL:PT1H
BEGIN:VTIMEZONE
TZID:UTC
BEGIN:STANDARD
TZOFFSETFROM:+0000
TZOFFSETTO:+0000
TZNAME:UTC
DTSTART:20240101T000000
END:STANDARD
END:VTIMEZONE
BEGIN:VEVENT
DTSTART;TZID=UTC:20251012T103000
DTEND;TZID=UTC:20251012T170000
DTSTAMP:20260419T213553
CREATED:20251009T114211Z
LAST-MODIFIED:20251224T102918Z
UID:1499-1760265000-1760288400@cyprus-churches.com
SUMMARY:Nepalese Fellowship
DESCRIPTION:The Nepali group warmly invites everyone to join us for a fellowship trip to Paphos — a day of friendship\, worship\, and inspiration!\nTrip Schedule:\n\n\n10:30 — Meeting at the Sunday Market bus stop\n\n\n11:00 — Departure to Paphos\n\n\n12:15–12:30 — Cave visit\n\n\n12:30–13:30 — Fellowship & worship\n\n\n13:30–15:00 — Lunch\n\n\n15:00 — Departure from Paphos\n\n\nMeeting point: Sunday Market bus stop\nEveryone is welcome!  Participation is free. You’re welcome to bring something for lunch or to share with others.
URL:https://cyprus-churches.com/event/nepalese-fellowship-2/
CATEGORIES:Paphos
END:VEVENT
END:VCALENDAR