BEGIN:VCALENDAR
VERSION:2.0
PRODID:-//Cyprus Churches - ECPv6.15.17//NONSGML v1.0//EN
CALSCALE:GREGORIAN
METHOD:PUBLISH
X-WR-CALNAME:Cyprus Churches
X-ORIGINAL-URL:https://cyprus-churches.com
X-WR-CALDESC:Events for Cyprus Churches
REFRESH-INTERVAL;VALUE=DURATION:PT1H
X-Robots-Tag:noindex
X-PUBLISHED-TTL:PT1H
BEGIN:VTIMEZONE
TZID:UTC
BEGIN:STANDARD
TZOFFSETFROM:+0000
TZOFFSETTO:+0000
TZNAME:UTC
DTSTART:20240101T000000
END:STANDARD
END:VTIMEZONE
BEGIN:VEVENT
DTSTART;TZID=UTC:20251221T103000
DTEND;TZID=UTC:20251221T130000
DTSTAMP:20260419T183138
CREATED:20251208T040510Z
LAST-MODIFIED:20251224T102144Z
UID:1637-1766313000-1766322000@cyprus-churches.com
SUMMARY:The Joy of Christmas Service
DESCRIPTION:🎄 Christmas Carol Service — The Joy of Christmas\n📅 December 21\, 2025 — 🕥 10:30 AM📍 New Testaments Community Church \nYou are warmly invited to a special Christmas Carol Service titled “The Joy of Christmas.”Join us as we celebrate the birth of Christ with joyful worship\, heartfelt carols\, and a message of hope for all. \n✨ Special Guest: Ukrainian Children’s ChoirTheir beautiful voices will fill the service with light\, warmth\, and the true spirit of Christmas. \nCome with family and friends\, and be part of this wonderful celebration of joy\, peace\, and unity. \nEveryone is welcome!
URL:https://cyprus-churches.com/event/the-joy-of-christmas-service/
LOCATION:New Testament Community Church\, Agiou Georgiou 47\, Peyia\, Paphos\, Peyia\, 8560\, Cyprus
CATEGORIES:Paphos
ATTACH;FMTTYPE=image/avif:https://cyprus-churches.com/wp-content/uploads/2025/12/NTCC-Christmas-Advert-2025-CL.avif
END:VEVENT
BEGIN:VEVENT
DTSTART;TZID=UTC:20251224T170000
DTEND;TZID=UTC:20251224T180000
DTSTAMP:20260419T183138
CREATED:20251215T043150Z
LAST-MODIFIED:20251224T102102Z
UID:1741-1766595600-1766599200@cyprus-churches.com
SUMMARY:Candlelight Service
DESCRIPTION:Christmas Eve · Candlelight Service\n     \n\n      Candlelight Christmas Eve at Petra Church\, Paphos\n    \n\n      You are warmly invited to celebrate Christmas Eve with Petra Church in Paphos.\n      Join us for a peaceful Candlelight Service as we reflect on the hope and joy of the Christmas message.\n     \n\n\n        Date: 24 December\n       \n\n        Time: 18:00\n       \n\n        Location: Paphos\n       \n \n\n      This candlelight service is open to everyone — families\, friends\, locals\, and visitors.\n      Come as you are and experience a quiet\, meaningful evening focused on the true meaning of Christmas.\n     \n\n      Learn more about the church here:\n      \n        Petra Church\, Paphos\n      \n     \n\n\n        Shared via Cyprus-Churches.com — a platform helping people discover Christian churches and church events across Cyprus.
URL:https://cyprus-churches.com/event/candlelight-service/
LOCATION:Petra Church\, 106 Mesogis Avenue\, Mesogi\, Paphos\, 8280\, Cyprus
CATEGORIES:Paphos
ATTACH;FMTTYPE=image/jpeg:https://cyprus-churches.com/wp-content/uploads/2025/12/christmas-eve-petra-church.jpg
END:VEVENT
BEGIN:VEVENT
DTSTART;TZID=UTC:20251224T183000
DTEND;TZID=UTC:20251224T193000
DTSTAMP:20260419T183138
CREATED:20251211T133929Z
LAST-MODIFIED:20251224T102036Z
UID:1694-1766601000-1766604600@cyprus-churches.com
SUMMARY:Christmas Eve
DESCRIPTION:Christmas Eve Candlelight Service\nCalvary Paphos\nYou are warmly invited to a beautiful Christmas Eve Candlelight Service\nat\n\nCalvary Paphos\n. \nTogether we will celebrate the birth of Jesus Christ through worship\, Scripture readings\,\nand the traditional lighting of candles symbolizing the Light of the World.\nA peaceful and meaningful evening for individuals and families. \nDate: 24 December 2025\nTime: 18:30\nLocation: Calvary Paphos \nAll are welcome. Come and
URL:https://cyprus-churches.com/event/christmas-eve/
LOCATION:Calvary Chapel\, 36 Griva Digeni\, Paphos\, 8047\, Cyprus
CATEGORIES:Paphos
ATTACH;FMTTYPE=image/jpeg:https://cyprus-churches.com/wp-content/uploads/2025/12/christmas-eve-2025.jpg
END:VEVENT
END:VCALENDAR