BEGIN:VCALENDAR
VERSION:2.0
PRODID:-//Cyprus Churches - ECPv6.15.17//NONSGML v1.0//EN
CALSCALE:GREGORIAN
METHOD:PUBLISH
X-WR-CALNAME:Cyprus Churches
X-ORIGINAL-URL:https://cyprus-churches.com
X-WR-CALDESC:Events for Cyprus Churches
REFRESH-INTERVAL;VALUE=DURATION:PT1H
X-Robots-Tag:noindex
X-PUBLISHED-TTL:PT1H
BEGIN:VTIMEZONE
TZID:UTC
BEGIN:STANDARD
TZOFFSETFROM:+0000
TZOFFSETTO:+0000
TZNAME:UTC
DTSTART:20230101T000000
END:STANDARD
END:VTIMEZONE
BEGIN:VEVENT
DTSTART;TZID=UTC:20241214T073000
DTEND;TZID=UTC:20241214T223000
DTSTAMP:20260420T011911
CREATED:20241221T084931Z
LAST-MODIFIED:20260123T144749Z
UID:454-1734161400-1734215400@cyprus-churches.com
SUMMARY:Womens' Conference
DESCRIPTION:Запись конференции и перевод на русский язык – YouTube \n 
URL:https://cyprus-churches.com/event/womens-conference/
LOCATION:The Sanctuary Church\, Franklin Rousvelt\, 138\, Limassol\, Limassol\, 3011\, Cyprus
CATEGORIES:Limassol
ATTACH;FMTTYPE=image/png:https://cyprus-churches.com/wp-content/uploads/2024/12/WC-940.png
END:VEVENT
END:VCALENDAR