BEGIN:VCALENDAR
VERSION:2.0
PRODID:-//Cyprus Churches - ECPv6.15.17//NONSGML v1.0//EN
CALSCALE:GREGORIAN
METHOD:PUBLISH
X-ORIGINAL-URL:https://cyprus-churches.com
X-WR-CALDESC:Events for Cyprus Churches
REFRESH-INTERVAL;VALUE=DURATION:PT1H
X-Robots-Tag:noindex
X-PUBLISHED-TTL:PT1H
BEGIN:VTIMEZONE
TZID:Europe/Helsinki
BEGIN:DAYLIGHT
TZOFFSETFROM:+0200
TZOFFSETTO:+0300
TZNAME:EEST
DTSTART:20240331T010000
END:DAYLIGHT
BEGIN:STANDARD
TZOFFSETFROM:+0300
TZOFFSETTO:+0200
TZNAME:EET
DTSTART:20241027T010000
END:STANDARD
BEGIN:DAYLIGHT
TZOFFSETFROM:+0200
TZOFFSETTO:+0300
TZNAME:EEST
DTSTART:20250330T010000
END:DAYLIGHT
BEGIN:STANDARD
TZOFFSETFROM:+0300
TZOFFSETTO:+0200
TZNAME:EET
DTSTART:20251026T010000
END:STANDARD
BEGIN:DAYLIGHT
TZOFFSETFROM:+0200
TZOFFSETTO:+0300
TZNAME:EEST
DTSTART:20260329T010000
END:DAYLIGHT
BEGIN:STANDARD
TZOFFSETFROM:+0300
TZOFFSETTO:+0200
TZNAME:EET
DTSTART:20261025T010000
END:STANDARD
END:VTIMEZONE
BEGIN:VTIMEZONE
TZID:UTC
BEGIN:STANDARD
TZOFFSETFROM:+0000
TZOFFSETTO:+0000
TZNAME:UTC
DTSTART:20240101T000000
END:STANDARD
END:VTIMEZONE
BEGIN:VEVENT
DTSTART;TZID=Europe/Helsinki:20250308T093000
DTEND;TZID=Europe/Helsinki:20250308T110000
DTSTAMP:20260419T200324
CREATED:20250304T155228Z
LAST-MODIFIED:20260123T144627Z
UID:756-1741426200-1741431600@cyprus-churches.com
SUMMARY:Men's Breakfast
DESCRIPTION:Larnaca Community Church is organizing a Mens’ Fellowship Breakfast\nThe event will take place at Alexander Restaurant\, Finikoudes\, Larnaca \nRegistration is necessary! Please register here \nCost: 6 euro \nCome and be blessed!
URL:https://cyprus-churches.com/event/mens-breakfast/
LOCATION:Alexanders Restaurant along sea front\, Athinon Avenue 101\, Larnaca\, Larnaca\, 6023\, Cyprus
CATEGORIES:Limassol
END:VEVENT
BEGIN:VEVENT
DTSTART;TZID=Europe/Helsinki:20250308T130000
DTEND;TZID=Europe/Helsinki:20250308T150000
DTSTAMP:20260419T200324
CREATED:20250304T153547Z
LAST-MODIFIED:20260123T144620Z
UID:746-1741438800-1741446000@cyprus-churches.com
SUMMARY:Женская Встреча
DESCRIPTION:Церковь “Путь\, Истина и Жизнь”\nприглашает\nна  Женскую Встречу\n8 марта\n\nМы хотим отметить этот день в атмосфере красоты\, вдохновения и радости!\nВсех ждут приятные сюрпризы\, яркие эмоции и интересное общение.\n\n  \nЧто мы для вас запланировали:\n\n\nВкусное чаепитие\n\n\n“Серьёзный” разговор о красоте и молодости с опытным косметологом-нутрициологом\n\n\nПример необременительной физической активности\, доступной всем на Кипре\n\n\nВесёлое времяпровождение за игрой\n\n\nПодарки!
URL:https://cyprus-churches.com/event/zhenskaya-vstrecha/
LOCATION:Церковь “Дом поклонения”\, Stasinou 25\, Limassol\, Limassol\, 3032\, Cyprus
CATEGORIES:Limassol
END:VEVENT
BEGIN:VEVENT
DTSTART;TZID=Europe/Helsinki:20250314T190000
DTEND;TZID=Europe/Helsinki:20250314T210000
DTSTAMP:20260419T200324
CREATED:20250306T064938Z
LAST-MODIFIED:20260123T144616Z
UID:766-1741978800-1741986000@cyprus-churches.com
SUMMARY:Вечер Хвалы и Поклонения
DESCRIPTION:Церковь “Слово Истины” в Лимасоле\nприглашает на\nВечер Хвалы и Поклонения\nс пастором Робертом Мухаметзяновым\n  \n14 марта\nначало в 19:00
URL:https://cyprus-churches.com/event/vecher-hvaly-i-pokloneniya-2/
LOCATION:Церковь “Слово Истины”\, 59 Agios Athanasios Avenue\, Limassol\, Limassol\, 4102\, Cyprus
CATEGORIES:Limassol
END:VEVENT
BEGIN:VEVENT
DTSTART;TZID=Europe/Helsinki:20250315T093000
DTEND;TZID=Europe/Helsinki:20250315T110000
DTSTAMP:20260419T200324
CREATED:20250304T154813Z
LAST-MODIFIED:20260123T144611Z
UID:754-1742031000-1742036400@cyprus-churches.com
SUMMARY:Women’s Fellowship Breakfast
DESCRIPTION:Larnaca Community Church is organizing a Womens’ Fellowship Breakfast\nThe event will take place at Alexander Restaurant\, Finikoudes\, Larnaca \nRegistration is necessary! Please register here \nCost: 6 euro \nCome and be blessed!
URL:https://cyprus-churches.com/event/womens-fellowship-breakfast/
LOCATION:Alexanders Restaurant along sea front\, Athinon Avenue 101\, Larnaca\, Larnaca\, 6023\, Cyprus
CATEGORIES:Larnaca
END:VEVENT
BEGIN:VEVENT
DTSTART;TZID=Europe/Helsinki:20250316T103000
DTEND;TZID=Europe/Helsinki:20250316T223000
DTSTAMP:20260419T200324
CREATED:20250305T164142Z
LAST-MODIFIED:20260123T144601Z
UID:763-1742121000-1742164200@cyprus-churches.com
SUMMARY:Пастор Роберт Мухаметзянов в Лимасоле
DESCRIPTION:Церковь “Слово Истины”\nприглашает на воскресное служение\nс пастором церкви в Геленджике Робертом Мухаметзяновым \n  \n9 марта в 10:30\n16 марта в 10:30
URL:https://cyprus-churches.com/event/pastor-robert-in-limassol/
LOCATION:Церковь “Слово Истины”\, 59 Agios Athanasios Avenue\, Limassol\, Limassol\, 4102\, Cyprus
CATEGORIES:Limassol
END:VEVENT
BEGIN:VEVENT
DTSTART;TZID=UTC:20250322T130000
DTEND;TZID=UTC:20250322T150000
DTSTAMP:20260419T200324
CREATED:20250317T104027Z
LAST-MODIFIED:20260123T144555Z
UID:791-1742648400-1742655600@cyprus-churches.com
SUMMARY:Welcome Lunch
DESCRIPTION:Freedom Church Limassol\nis inviting for\nWELCOME LUNCH\n  \nSaturday\, March 22 at 1 pm\nAsk them for location in Instagram \n 
URL:https://cyprus-churches.com/event/welcome-lunch/
LOCATION:Limassol
CATEGORIES:Larnaca
END:VEVENT
BEGIN:VEVENT
DTSTART;TZID=UTC:20250323T103000
DTEND;TZID=UTC:20250323T130000
DTSTAMP:20260419T200324
CREATED:20250317T110747Z
LAST-MODIFIED:20260123T144549Z
UID:797-1742725800-1742734800@cyprus-churches.com
SUMMARY:Pastor Elija in Limassol
DESCRIPTION:The Sanctury Church in Limassol\nis inviting for a\nSunday Service\nwith Pastor Elija\nfrom Bethel Church Nicosia\n  \nSunday\, March 23 at 10:30\nCome and stay with us for a fellowship lunch after the service\n 
URL:https://cyprus-churches.com/event/pastor-elija-in-limassol/
LOCATION:The Sanctuary Church\, Franklin Rousvelt\, 138\, Limassol\, Limassol\, 3011\, Cyprus
CATEGORIES:Limassol
END:VEVENT
BEGIN:VEVENT
DTSTART;TZID=UTC:20250330T103000
DTEND;TZID=UTC:20250330T140000
DTSTAMP:20260419T200324
CREATED:20250313T081635Z
LAST-MODIFIED:20260123T144544Z
UID:787-1743330600-1743343200@cyprus-churches.com
SUMMARY:Healing and Deliverance Ministry
DESCRIPTION:House of Glory Punjabi Church\nis iviting for the\nHealing and Deliverance Ministry\non March 30\, 2025\n  \nLanguage: Punjabi with translation into English
URL:https://cyprus-churches.com/event/healing-and-deliverance-ministry/
LOCATION:House of Glory Punjabi Church\, 4 Eleftherias\, Nicosia\, 1010\, Cyprus
CATEGORIES:Nicosia
END:VEVENT
BEGIN:VEVENT
DTSTART;TZID=Europe/Helsinki:20250330T160000
DTEND;TZID=Europe/Helsinki:20250330T180000
DTSTAMP:20260419T200324
CREATED:20250320T094213Z
LAST-MODIFIED:20260123T144538Z
UID:804-1743350400-1743357600@cyprus-churches.com
SUMMARY:Evangelism Training
DESCRIPTION:Join us to discover powerful tools for effective evangelims in Cyprus. Learn the do’s and don’ts\, gain practical insights\, and get equipped to share your faith with confidence.\n\nWe’ll have a great time!\n\nThe training will be conducted by Andrew Ioannou\, Pastor of God’s Way Center \nFor more info contact: 96 834 396\n 
URL:https://cyprus-churches.com/event/evangelism-training/
LOCATION:The Sanctuary Church\, Franklin Rousvelt\, 138\, Limassol\, Limassol\, 3011\, Cyprus
CATEGORIES:Limassol
END:VEVENT
END:VCALENDAR