BEGIN:VCALENDAR
VERSION:2.0
PRODID:-//Cyprus Churches - ECPv6.15.17//NONSGML v1.0//EN
CALSCALE:GREGORIAN
METHOD:PUBLISH
X-WR-CALNAME:Cyprus Churches
X-ORIGINAL-URL:https://cyprus-churches.com
X-WR-CALDESC:Events for Cyprus Churches
REFRESH-INTERVAL;VALUE=DURATION:PT1H
X-Robots-Tag:noindex
X-PUBLISHED-TTL:PT1H
BEGIN:VTIMEZONE
TZID:UTC
BEGIN:STANDARD
TZOFFSETFROM:+0000
TZOFFSETTO:+0000
TZNAME:UTC
DTSTART:20240101T000000
END:STANDARD
END:VTIMEZONE
BEGIN:VTIMEZONE
TZID:Europe/Athens
BEGIN:DAYLIGHT
TZOFFSETFROM:+0200
TZOFFSETTO:+0300
TZNAME:EEST
DTSTART:20240331T010000
END:DAYLIGHT
BEGIN:STANDARD
TZOFFSETFROM:+0300
TZOFFSETTO:+0200
TZNAME:EET
DTSTART:20241027T010000
END:STANDARD
BEGIN:DAYLIGHT
TZOFFSETFROM:+0200
TZOFFSETTO:+0300
TZNAME:EEST
DTSTART:20250330T010000
END:DAYLIGHT
BEGIN:STANDARD
TZOFFSETFROM:+0300
TZOFFSETTO:+0200
TZNAME:EET
DTSTART:20251026T010000
END:STANDARD
BEGIN:DAYLIGHT
TZOFFSETFROM:+0200
TZOFFSETTO:+0300
TZNAME:EEST
DTSTART:20260329T010000
END:DAYLIGHT
BEGIN:STANDARD
TZOFFSETFROM:+0300
TZOFFSETTO:+0200
TZNAME:EET
DTSTART:20261025T010000
END:STANDARD
END:VTIMEZONE
BEGIN:VTIMEZONE
TZID:Europe/Helsinki
BEGIN:DAYLIGHT
TZOFFSETFROM:+0200
TZOFFSETTO:+0300
TZNAME:EEST
DTSTART:20240331T010000
END:DAYLIGHT
BEGIN:STANDARD
TZOFFSETFROM:+0300
TZOFFSETTO:+0200
TZNAME:EET
DTSTART:20241027T010000
END:STANDARD
BEGIN:DAYLIGHT
TZOFFSETFROM:+0200
TZOFFSETTO:+0300
TZNAME:EEST
DTSTART:20250330T010000
END:DAYLIGHT
BEGIN:STANDARD
TZOFFSETFROM:+0300
TZOFFSETTO:+0200
TZNAME:EET
DTSTART:20251026T010000
END:STANDARD
BEGIN:DAYLIGHT
TZOFFSETFROM:+0200
TZOFFSETTO:+0300
TZNAME:EEST
DTSTART:20260329T010000
END:DAYLIGHT
BEGIN:STANDARD
TZOFFSETFROM:+0300
TZOFFSETTO:+0200
TZNAME:EET
DTSTART:20261025T010000
END:STANDARD
END:VTIMEZONE
BEGIN:VEVENT
DTSTART;TZID=UTC:20250502T190000
DTEND;TZID=UTC:20250801T210000
DTSTAMP:20260419T151233
CREATED:20250426T110215Z
LAST-MODIFIED:20260123T144408Z
UID:933-1746212400-1754082000@cyprus-churches.com
SUMMARY:Курс "Основы Христианства"
DESCRIPTION:Word of Truth Church – Церковь “Слово Истины”\nприглашает на курс “Основы Христианства” \nКурс подходит как для верующих\, так и для тех\, кто только интересуется темами – кто такой Бог\, Библия\, что такое вера и христианство. \nНеобходимо записаться по ссылке\, которая доступна в прикрепленном сообщении в Instagram
URL:https://cyprus-churches.com/event/kurs-osnovy-hristianstva/
LOCATION:Церковь “Слово Истины”\, 59 Agios Athanasios Avenue\, Limassol\, Limassol\, 4102\, Cyprus
CATEGORIES:Limassol
END:VEVENT
BEGIN:VEVENT
DTSTART;TZID=UTC:20250606T180000
DTEND;TZID=UTC:20250608T110000
DTSTAMP:20260419T151233
CREATED:20250529T072036Z
LAST-MODIFIED:20260123T144243Z
UID:1129-1749232800-1749380400@cyprus-churches.com
SUMMARY:Watch Party
DESCRIPTION:The Elevation Church in Limassol\nis inviting for a\nWatch Party\n\nWe will gather together in Limassol to watch an Accelerate Conference 2025\nJune 6\, Friday: 6 pm – 9 pm\nJune 7\, Saturday: 9 am\nJune 8\, Sunday: 8 am\n* Cyprus time\n  \nInquires and questions: +(357) 94 060-360 \n 
URL:https://cyprus-churches.com/event/watch-the-accelerate-with-us/
LOCATION:Elevation Church\, 11 Jean Sibelius street\, Limassol\, Limassol\, 3017\, Cyprus
CATEGORIES:Limassol
END:VEVENT
BEGIN:VEVENT
DTSTART;TZID=Europe/Athens:20250607T180000
DTEND;TZID=Europe/Athens:20250607T210000
DTSTAMP:20260419T151233
CREATED:20250206T102238Z
LAST-MODIFIED:20260123T144237Z
UID:682-1749319200-1749330000@cyprus-churches.com
SUMMARY:Worship Night in Larnaca
DESCRIPTION:We are invited to a\nWorship Night in Larnaca\nby @worshipincyprus Team\n  \n\nShout for joy to the Lord\, all the earth. \nWorship the Lord with gladness\, \nCome before Him with joyful songs \nPsalm 100:1-2
URL:https://cyprus-churches.com/event/worship-night-in-larnaca/
LOCATION:American Academy Larnaca\, Grigori Afxentiou 32\, Avenue\, Larnaca\, Larnaca\, 6021\, Cyprus
CATEGORIES:Larnaca
END:VEVENT
BEGIN:VEVENT
DTSTART;TZID=UTC:20250614T090000
DTEND;TZID=UTC:20250614T170000
DTSTAMP:20260419T151233
CREATED:20250528T122804Z
LAST-MODIFIED:20260123T144232Z
UID:1118-1749891600-1749920400@cyprus-churches.com
SUMMARY:CAVE-2025
DESCRIPTION:Freedom Church\nis inviting for a\nCAVE 2025\n  \nVenue – Cyprus Red Cross\, Polemidia\, Limassol 3113\, Cyprus\n  \nPlease register here\n\n\nParking –  There is plenty of parking on site \nEating – We are going to have snacks throughout the day\, and lunch will be provided. After the Cave finishes\, why not arrange with some friends to go out for a meal! \nChildren’s Provision – There won’t be any specific children’s provision at the Cave\, but if you have kids who you feel are old enough to understand and be part of the day\, they’re very welcome to join us! We kindly ask that if you think they might be a distraction for you or others\, you consider making other arrangements. \nOther requirements – We want you to enjoy the event from start to finish\, so if you have specific access requirements\, please let us know at limassol@freedomchurch.cc\n \n\n\nThe venue is accessible for wheelchairs\, and disabled facilities are available. \nWe believe God is going to move powerfully on this weekend\, make sure you don’t miss out!\nCan’t wait to see you there church! \nPastors Lewis & Liliana
URL:https://cyprus-churches.com/event/cave-2025/
LOCATION:Cyprus Red Cross\, Δημήτρη Λάγιου\, Limassol\, 3113\, Cyprus
CATEGORIES:Limassol
END:VEVENT
BEGIN:VEVENT
DTSTART;TZID=UTC:20250615T100000
DTEND;TZID=UTC:20250615T130000
DTSTAMP:20260419T151233
CREATED:20250607T072250Z
LAST-MODIFIED:20260123T144227Z
UID:1172-1749981600-1749992400@cyprus-churches.com
SUMMARY:Women's Special Sunday
DESCRIPTION:WITRIM Limassol\nis inviting for a\nWomens’ Special Sunday\n  \n\nTheme: A GOD FEARING WOMAN. (Proverbs 31)\n\n\n\nHost: Mama Ruth Taku (Mother\, WITRIM Limassol)\, feat. Sis. Zita. (Women’s Leader);\nSis. Nona (Assistant Women’s Leader)\nSis. Eileen (Church Administrator)\nSis. Lucy &\nSis. Korpo.\n\nOther features:\n>The Church\n>Word of Salvation\n>Glorious Praise\n>Women’s Debate\n>Lots More….
URL:https://cyprus-churches.com/event/womens-special-sunday/
LOCATION:Witrim Limassol\, Agias Zonis\, 1\, Limassol\, 3026\, Cyprus
CATEGORIES:Limassol
END:VEVENT
BEGIN:VEVENT
DTSTART;TZID=UTC:20250615T103000
DTEND;TZID=UTC:20250615T130000
DTSTAMP:20260419T151233
CREATED:20250603T145913Z
LAST-MODIFIED:20260123T144221Z
UID:1137-1749983400-1749992400@cyprus-churches.com
SUMMARY:Sunday Family Service
DESCRIPTION:Freedom Church in Limassol\nis inviting for a\nSunday Family Service\n\nPlace: Cyprus Red Cross\, Polemidia\, Limassol 3113\, Cyprus\nTime: 10:30 am
URL:https://cyprus-churches.com/event/sunday-family-service/
LOCATION:Cyprus Red Cross\, Δημήτρη Λάγιου\, Limassol\, 3113\, Cyprus
CATEGORIES:Limassol
END:VEVENT
BEGIN:VEVENT
DTSTART;TZID=UTC:20250620T180000
DTEND;TZID=UTC:20250620T200000
DTSTAMP:20260419T151233
CREATED:20250610T092907Z
LAST-MODIFIED:20260123T144215Z
UID:1181-1750442400-1750449600@cyprus-churches.com
SUMMARY:Christian Marriage Conference - Men's Seminar
DESCRIPTION:Paphos Christian Fellowship International & Petra Church\nare inviting for a\nChristian Marriage Conference\n\nSpeakers:\nDima & Lena Lavrov\nGraham & Caroline Webb\nDavid & Angelina Kalashnikov\n  \nSubjects will include:\n\n\nMan up!\n\n\nWho’s the Boss?\n\n\nMoney! Money! Money!\n\n\nTurn down the Heat! – Prevent Climate Change in your Marriage\n\n\nUndressing the Truth About Modesty\n\n\nHomemaking: A Lost Art or a dangerous ideal?\n\n\nHow to Successfully Solve Any Problem in a Family\n\n\nTiny Habits\, Big Damage: Is Your Marriage Under Attack?\n\n\nPLEASE REGISTER HERE\n  \nRefreshments will be provided\nFor more information contact: +357 99 105-044
URL:https://cyprus-churches.com/event/christian-marriage-conference-mens-seminar/
LOCATION:Paphos Christian Fellowship International Church\, Adamantiou Korai 12\, Kato Paphos\, Paphos\, 8046\, Cyprus
CATEGORIES:Paphos
END:VEVENT
BEGIN:VEVENT
DTSTART;TZID=UTC:20250620T180000
DTEND;TZID=UTC:20250620T200000
DTSTAMP:20260419T151233
CREATED:20250610T093235Z
LAST-MODIFIED:20260123T144208Z
UID:1188-1750442400-1750449600@cyprus-churches.com
SUMMARY:Christian Marriage Conference - Women's Seminar
DESCRIPTION:Paphos Christian Fellowship International & Petra Church\nare inviting for a\nChristian Marriage Conference\n\nSpeakers:\nDima & Lena Lavrov\nGraham & Caroline Webb\nDavid & Angelina Kalashnikov\n  \nSubjects will include:\n\n\nMan up!\n\n\nWho’s the Boss?\n\n\nMoney! Money! Money!\n\n\nTurn down the Heat! – Prevent Climate Change in your Marriage\n\n\nUndressing the Truth About Modesty\n\n\nHomemaking: A Lost Art or a dangerous ideal?\n\n\nHow to Successfully Solve Any Problem in a Family\n\n\nTiny Habits\, Big Damage: Is Your Marriage Under Attack?\n\n\nPLEASE REGISTER HERE\n  \nRefreshments will be provided\nFor more information contact: +357 99 105-044
URL:https://cyprus-churches.com/event/christian-marriage-conference-womens-seminar/
LOCATION:Petra Church\, 106 Mesogis Avenue\, Mesogi\, Paphos\, 8280\, Cyprus
CATEGORIES:Paphos
END:VEVENT
BEGIN:VEVENT
DTSTART;TZID=UTC:20250620T180000
DTEND;TZID=UTC:20250620T210000
DTSTAMP:20260419T151233
CREATED:20250509T101728Z
LAST-MODIFIED:20260123T144202Z
UID:1031-1750442400-1750453200@cyprus-churches.com
SUMMARY:Prayer and Worship Night
DESCRIPTION:WITRIM\, Larnaca\nis inviting for a\nPrayer and Worship Night\n  \n𝗪e e𝘅𝗽𝗲𝗿𝗶𝗲𝗻𝗰𝗲 𝗶𝘀 𝗮 𝘄𝗼𝗿𝘀𝗵𝗶𝗽 𝗮𝗻𝗱 𝗽𝗿𝗮𝘆𝗲𝗿 𝘀𝗼𝗮𝗸𝗶𝗻𝗴 𝗰𝗼𝗻𝘃𝗲𝗿𝗴𝗲𝗻𝗰𝗲. 𝗔 𝗽𝗹𝗮𝘁𝗳𝗼𝗿𝗺 𝗯𝘂𝗶𝗹t 𝗼𝗻 𝗚𝗼𝗱’𝘀 𝘄𝗼𝗿𝗱\, 𝘁𝗮𝗿𝗴𝗲𝘁𝗲𝗱 𝗮𝘁 𝘂𝗻𝗶𝘁𝗶𝗻𝗴 𝘆𝗼𝘂𝗻𝗴 𝗰𝗵𝘂𝗿𝗰𝗵 𝗺𝗶𝗻𝗶𝘀𝘁𝗲𝗿𝘀 𝗮𝗻𝗱 𝗟𝗲𝗮𝗱𝗲𝗿𝘀 𝘁𝗵𝗿𝗼𝘂𝗴𝗵 𝘁𝗵𝗲 𝗮𝗰𝘁 𝗼𝗳 𝗪𝗼𝗿𝘀𝗵𝗶𝗽 𝗮𝗻𝗱 𝗲𝗻𝘀𝘂𝗿𝗶𝗻𝗴 𝘁𝗼𝘁𝗮𝗹 𝗥𝗲𝗮𝗹𝗶𝗴𝗺𝗲𝗻𝘁 𝘁𝗼 𝗚𝗼𝗱’𝘀 𝗽𝘂𝗿𝗽𝗼𝘀𝗲𝘀 𝗳𝗼𝗿 𝗼𝘂𝗿 𝗹𝗶𝘃𝗲𝘀 𝗮𝗻𝗱 𝗺𝗶𝗻𝗶𝘀𝘁𝗿𝗶𝗲𝘀 𝗮𝘀 𝗶𝘁 𝘄𝗮𝘀 𝗶𝗻 𝗔𝗰𝘁 𝗰𝗵𝗮𝗽𝘁𝗲𝗿 𝟮.\n\nMinistering:\n● Min. LAWBUKA SAX\n● Min. Jonathan\n● Min. Osinachi\n● Min. Franklin\n● Min. Josephine\n● Min. Faith\n● And Lots More\n\nHost – Min. Joseph Nana Tehmeh (In Partnership with Majestic Choir WITRIM LARNACA)\n\nFEATURING – Worship Praise Word\, Worship worship\nVenue: Church AUDITORIUM OPPOSITE MONOGRAM STORE CITY CENTER LARNACA\n\nThere are things Prayers Can Do\, but there are things Only WORSHIP can Handle
URL:https://cyprus-churches.com/event/prayer-and-wroship-lca/
LOCATION:Witrim Larnaca\, 25 Galileou street\, Larnaca\, 6023\, Cyprus
CATEGORIES:Larnaca
END:VEVENT
BEGIN:VEVENT
DTSTART;TZID=UTC:20250621T093000
DTEND;TZID=UTC:20250621T110000
DTSTAMP:20260419T151233
CREATED:20250329T080820Z
LAST-MODIFIED:20260123T144155Z
UID:836-1750498200-1750503600@cyprus-churches.com
SUMMARY:Womens Fellowship Breakfast
DESCRIPTION:Larnaca Community Church is organizing a Womens’ Fellowship Breakfast\nThe event will take place at Alexander Restaurant\, Finikoudes\, Larnaca \nRegistration is necessary! Please register here \nCost: 6 euro \nCome and be blessed!
URL:https://cyprus-churches.com/event/womens-fellowship-breakfast-2/
LOCATION:Alexanders Restaurant along sea front\, Athinon Avenue 101\, Larnaca\, Larnaca\, 6023\, Cyprus
CATEGORIES:Larnaca
END:VEVENT
BEGIN:VEVENT
DTSTART;TZID=UTC:20250621T100000
DTEND;TZID=UTC:20250621T150000
DTSTAMP:20260419T151233
CREATED:20250617T053754Z
LAST-MODIFIED:20260123T144146Z
UID:1218-1750500000-1750518000@cyprus-churches.com
SUMMARY:Sports Day
DESCRIPTION:The Church of Pentecost North Cyprus\nis inviting everyone for a\nSports Day\n\n\n\nTug of war\n\n\nSack race\n\n\nChess\n\n\nDam\n\n\nLudo\n\n\nCards\n\n\nLadies & Gents Football\n\n\nEgg & Spoon\n\n\nand more!\n\n\n\nLet’s meet in CIU Sports Arena at Cyprus International University 99258 Nicosia\, North Cyprus
URL:https://cyprus-churches.com/event/sports-day/
LOCATION:The Church of Pentecost North Cyprus\, Gazeteci Kemal Aşık Caddesi 1\, Lefkoşa\, 99010\, Cyprus
CATEGORIES:North Cyprus
END:VEVENT
BEGIN:VEVENT
DTSTART;TZID=UTC:20250621T103000
DTEND;TZID=UTC:20250621T133000
DTSTAMP:20260419T151233
CREATED:20250610T093500Z
LAST-MODIFIED:20260123T144139Z
UID:1194-1750501800-1750512600@cyprus-churches.com
SUMMARY:Christian Marriage Conference - Couple's Seminar
DESCRIPTION:Paphos Christian Fellowship International & Petra Church\nare inviting for a\nChristian Marriage Conference\n\nSpeakers:\nDima & Lena Lavrov\nGraham & Caroline Webb\nDavid & Angelina Kalashnikov\n  \nSubjects will include:\n\n\nMan up!\n\n\nWho’s the Boss?\n\n\nMoney! Money! Money!\n\n\nTurn down the Heat! – Prevent Climate Change in your Marriage\n\n\nUndressing the Truth About Modesty\n\n\nHomemaking: A Lost Art or a dangerous ideal?\n\n\nHow to Successfully Solve Any Problem in a Family\n\n\nTiny Habits\, Big Damage: Is Your Marriage Under Attack?\n\n\nPLEASE REGISTER HERE\n  \nRefreshments will be provided\nFor more information contact: +357 99 105-044
URL:https://cyprus-churches.com/event/christian-marriage-conference-couples-seminar/
LOCATION:Petra Church\, 106 Mesogis Avenue\, Mesogi\, Paphos\, 8280\, Cyprus
CATEGORIES:Paphos
END:VEVENT
BEGIN:VEVENT
DTSTART;TZID=Europe/Helsinki:20250625T193000
DTEND;TZID=Europe/Helsinki:20250625T210000
DTSTAMP:20260419T151233
CREATED:20250317T105738Z
LAST-MODIFIED:20260123T144129Z
UID:794-1750879800-1750885200@cyprus-churches.com
SUMMARY:Womens Gathering
DESCRIPTION:Freedom Church Limassol\nis inviting for\nWomens’ Gathering\n  \nWednesday\, June 25 at 7:30 pm\nAsk them for location in Instagram
URL:https://cyprus-churches.com/event/womens-gathering/
LOCATION:Freedom Church Limassol\, Tositsa\, Limassol\, Limassol\, 3036\, Cyprus
CATEGORIES:Limassol
END:VEVENT
BEGIN:VEVENT
DTSTART;TZID=UTC:20250625T200000
DTEND;TZID=UTC:20250625T220000
DTSTAMP:20260419T151233
CREATED:20250625T101607Z
LAST-MODIFIED:20260123T144123Z
UID:1255-1750881600-1750888800@cyprus-churches.com
SUMMARY:Punjabi Fellowship
DESCRIPTION:House of Glory Punjabi Church\nin inviting for a\nMail Mialp / Galbaath Meeting
URL:https://cyprus-churches.com/event/punjabi-fellowship/
LOCATION:House of Glory Punjabi Church\, 4 Eleftherias\, Nicosia\, 1010\, Cyprus
CATEGORIES:Nicosia
END:VEVENT
BEGIN:VEVENT
DTSTART;TZID=UTC:20250629T100000
DTEND;TZID=UTC:20250629T140000
DTSTAMP:20260419T151233
CREATED:20250514T151144Z
LAST-MODIFIED:20260123T144118Z
UID:1053-1751191200-1751205600@cyprus-churches.com
SUMMARY:The Sanctuary Church 22nd Anniversary
DESCRIPTION:The Sanctuary Church\nis inviting for its\n22nd Anniversary!\n  \nSpeaker: Pastor Olutayo Ayode\nTheme: THE GOD OF NEW THINGS\nREV. 21:5\n\nThe Anniversary will be in a new place:\nLouki Akrita 9\, 3030 Limassol. Create a route with Google Maps below \n  \nFor more info contact: 99 642-304
URL:https://cyprus-churches.com/event/the-sanctuary-church-22nd-anniversary/
LOCATION:P.E.O Cyprus Worker Federation\, Louki Akrita 9\, Limassol\, 3030\, Cyprus
CATEGORIES:Limassol
END:VEVENT
BEGIN:VEVENT
DTSTART;TZID=UTC:20250629T110000
DTEND;TZID=UTC:20250629T130000
DTSTAMP:20260419T151233
CREATED:20250502T150609Z
LAST-MODIFIED:20260123T144112Z
UID:1008-1751194800-1751202000@cyprus-churches.com
SUMMARY:Water Baptism in Limassol
DESCRIPTION:Freedom Church\nis inviting\nto get baptised!\n  \nSign up for it here\n  \nLet’s meet in Dasoudi Beach in Limassol
URL:https://cyprus-churches.com/event/water-baptism-in-limassol/
LOCATION:Freedom Church Limassol\, Tositsa\, Limassol\, Limassol\, 3036\, Cyprus
CATEGORIES:Limassol
END:VEVENT
END:VCALENDAR