BEGIN:VCALENDAR
VERSION:2.0
PRODID:-//Cyprus Churches - ECPv6.15.17//NONSGML v1.0//EN
CALSCALE:GREGORIAN
METHOD:PUBLISH
X-ORIGINAL-URL:https://cyprus-churches.com
X-WR-CALDESC:Events for Cyprus Churches
REFRESH-INTERVAL;VALUE=DURATION:PT1H
X-Robots-Tag:noindex
X-PUBLISHED-TTL:PT1H
BEGIN:VTIMEZONE
TZID:UTC
BEGIN:STANDARD
TZOFFSETFROM:+0000
TZOFFSETTO:+0000
TZNAME:UTC
DTSTART:20240101T000000
END:STANDARD
END:VTIMEZONE
BEGIN:VEVENT
DTSTART;TZID=UTC:20250502T190000
DTEND;TZID=UTC:20250801T210000
DTSTAMP:20260419T134353
CREATED:20250426T110215Z
LAST-MODIFIED:20260123T144408Z
UID:933-1746212400-1754082000@cyprus-churches.com
SUMMARY:Курс "Основы Христианства"
DESCRIPTION:Word of Truth Church – Церковь “Слово Истины”\nприглашает на курс “Основы Христианства” \nКурс подходит как для верующих\, так и для тех\, кто только интересуется темами – кто такой Бог\, Библия\, что такое вера и христианство. \nНеобходимо записаться по ссылке\, которая доступна в прикрепленном сообщении в Instagram
URL:https://cyprus-churches.com/event/kurs-osnovy-hristianstva/
LOCATION:Церковь “Слово Истины”\, 59 Agios Athanasios Avenue\, Limassol\, Limassol\, 4102\, Cyprus
CATEGORIES:Limassol
END:VEVENT
BEGIN:VEVENT
DTSTART;TZID=UTC:20250701T163000
DTEND;TZID=UTC:20250701T190000
DTSTAMP:20260419T134353
CREATED:20250625T100819Z
LAST-MODIFIED:20260123T144105Z
UID:1251-1751387400-1751396400@cyprus-churches.com
SUMMARY:Fun and Fellowship - Beach day in Larnaca
DESCRIPTION:Youth for Christ Cyprus Team\nis inviting for a\nBeach Day in Larnaca\nAges 12-18\n  \nLet’s meet in Makenzy Beach in Larnaca. Need help to find? Contact us in Instagram for details
URL:https://cyprus-churches.com/event/fun-and-fellowship-beach-day-in-larnaca/
LOCATION:Makenzy Beach Larnaca\, 68 Tasou Mitsopoulou Avenue\, Larnaca\, 6028\, Cyprus
CATEGORIES:Larnaca
END:VEVENT
BEGIN:VEVENT
DTSTART;TZID=UTC:20250708T163000
DTEND;TZID=UTC:20250708T190000
DTSTAMP:20260419T134353
CREATED:20250626T123126Z
LAST-MODIFIED:20260123T144045Z
UID:1262-1751992200-1752001200@cyprus-churches.com
SUMMARY:Fun and Fellowship - Beach day in Paphos
DESCRIPTION:Youth for Christ Cyprus Team\nis inviting for a\nBeach Day in Paphos\nAges 12-18\n  \nLet’s meet in Lighthouse Beach in Paphos Need help to find? Contact us in Instagram for details
URL:https://cyprus-churches.com/event/fun-and-fellowship-beach-day-in-paphos/
LOCATION:Limassol
CATEGORIES:Paphos
END:VEVENT
BEGIN:VEVENT
DTSTART;TZID=UTC:20250711T180000
DTEND;TZID=UTC:20250712T210000
DTSTAMP:20260419T134353
CREATED:20250625T095258Z
LAST-MODIFIED:20260123T144037Z
UID:1246-1752256800-1752354000@cyprus-churches.com
SUMMARY:Witrim Larnaca Church 10th Anniversary
DESCRIPTION:WITRIM\, Larnaca\nis inviting to celebrate its\n10th Anniversary!\n  \nTheme: Dominion For Next Level\n  \n𝐌𝐢𝐧𝐢𝐬𝐭𝐞𝐫𝐢𝐧𝐠: 𝐏𝐚𝐬𝐭𝐨𝐫 𝐌𝐫𝐬. 𝐅𝐀𝐈𝐓𝐇 𝐄𝐅𝐎𝐍 (𝐂𝐀𝐍𝐀𝐃𝐀)\n𝐇𝐨𝐬𝐭: 𝐏𝐚𝐬𝐭𝐨𝐫 𝐒𝐭𝐞𝐩𝐡𝐞𝐧 𝐃𝐨𝐛𝐠𝐢𝐦𝐚\n𝐂𝐨-𝐇𝐨𝐬𝐭: 𝐏𝐚𝐬𝐭𝐨𝐫 𝐕𝐢𝐧𝐜𝐞𝐧𝐭 𝐘𝐞𝐥𝐥𝐚\n  \n 
URL:https://cyprus-churches.com/event/witrim-larnaca-church-10th-anniversary/
LOCATION:Witrim Larnaca\, 25 Galileou street\, Larnaca\, 6023\, Cyprus
CATEGORIES:Larnaca
END:VEVENT
BEGIN:VEVENT
DTSTART;TZID=UTC:20250713T100000
DTEND;TZID=UTC:20250713T130000
DTSTAMP:20260419T134353
CREATED:20250607T071747Z
LAST-MODIFIED:20260123T144030Z
UID:1166-1752400800-1752411600@cyprus-churches.com
SUMMARY:Men's special Sunday Service
DESCRIPTION:WITRIM Limassol\nis inviting for a\nMen’s Special Sunday Service\n\n\nTheme: MEN LET’S MAKE THE DIFFERENCE BY BEING DIFFERENT FOR AN EFFECTIVE REVIVAL.(Ephesians 2: 10)\n  \n\n\nHost: Pastor\, Roger Taku (Resident Pastor\, WITRIM Limassol)\, feat.\nElder\, Amadi Goodness (Men’s Leader);\nBro\, Uche (Assistant Men’s Leader) &\nThe Men.
URL:https://cyprus-churches.com/event/mens-special-sunday-service/
LOCATION:Witrim Limassol\, Agias Zonis\, 1\, Limassol\, 3026\, Cyprus
CATEGORIES:Limassol
END:VEVENT
BEGIN:VEVENT
DTSTART;TZID=UTC:20250713T100000
DTEND;TZID=UTC:20250713T130000
DTSTAMP:20260419T134353
CREATED:20250625T095537Z
LAST-MODIFIED:20260123T144021Z
UID:1249-1752400800-1752411600@cyprus-churches.com
SUMMARY:Witrim Larnaca 10th Celebration Sunday Service
DESCRIPTION:WITRIM\, Larnaca\nis inviting to celebrate its\n10th Anniversary!\n  \nTheme: Dominion For Next Level\n  \n𝐌𝐢𝐧𝐢𝐬𝐭𝐞𝐫𝐢𝐧𝐠: 𝐏𝐚𝐬𝐭𝐨𝐫 𝐌𝐫𝐬. 𝐅𝐀𝐈𝐓𝐇 𝐄𝐅𝐎𝐍 (𝐂𝐀𝐍𝐀𝐃𝐀)\n𝐇𝐨𝐬𝐭: 𝐏𝐚𝐬𝐭𝐨𝐫 𝐒𝐭𝐞𝐩𝐡𝐞𝐧 𝐃𝐨𝐛𝐠𝐢𝐦𝐚\n𝐂𝐨-𝐇𝐨𝐬𝐭: 𝐏𝐚𝐬𝐭𝐨𝐫 𝐕𝐢𝐧𝐜𝐞𝐧𝐭 𝐘𝐞𝐥𝐥𝐚\n  \n 
URL:https://cyprus-churches.com/event/witrim-larnaca-10th-celebration-sunday-service/
LOCATION:Witrim Larnaca\, 25 Galileou street\, Larnaca\, 6023\, Cyprus
CATEGORIES:Larnaca
END:VEVENT
BEGIN:VEVENT
DTSTART;TZID=UTC:20250715T100000
DTEND;TZID=UTC:20250715T120000
DTSTAMP:20260419T134353
CREATED:20250617T050910Z
LAST-MODIFIED:20260123T144013Z
UID:1207-1752573600-1752580800@cyprus-churches.com
SUMMARY:Free Weekly Bible Fun Camp
DESCRIPTION:Church of Christ in Nicosia\nis inviting for a\nFREE Weekly Bible Fun Camp!\nFor ages 4-12\nChildren 3 and under welcome with a parent\nAlso\, there will be an Adult/Teen class as well\n\nWhat we’ll do: Bible stories\, Skits & Puppets\, Crafts\, Snacks\, and Fun Songs\nRegister here\nContact us: +357 96 012-440
URL:https://cyprus-churches.com/event/free-weekly-bible-fun-camp/
LOCATION:Limassol
CATEGORIES:Nicosia
END:VEVENT
BEGIN:VEVENT
DTSTART;TZID=UTC:20250715T163000
DTEND;TZID=UTC:20250715T190000
DTSTAMP:20260419T134353
CREATED:20250627T103224Z
LAST-MODIFIED:20260123T144003Z
UID:1265-1752597000-1752606000@cyprus-churches.com
SUMMARY:Fun and Fellowship - Outdoor Games Day in Nicosia
DESCRIPTION:Youth for Christ Cyprus Team\nis inviting for a\nOutdoor Games Day in Nicosia\nAges 12-18\n  \nLet’s meet in Athalassa National Forest Park in Nicosia. Need help to find? Contact us in Instagram for details
URL:https://cyprus-churches.com/event/fun-and-fellowship-outdoor-games-day-in-nicosia/
LOCATION:Limassol
CATEGORIES:Nicosia
END:VEVENT
BEGIN:VEVENT
DTSTART;TZID=UTC:20250717T183000
DTEND;TZID=UTC:20250720T220000
DTSTAMP:20260419T134353
CREATED:20250516T115431Z
LAST-MODIFIED:20260123T143952Z
UID:1073-1752777000-1753048800@cyprus-churches.com
SUMMARY:Cyprus Apostolic Invasion (Next Level Fire Conference 2025)
DESCRIPTION:RCCG Bethel Parish Nicosia\nis inviting for a\nCyprus Apostolic Invasion\nNext Level Fire Conference 2025\n  \n☆Men and Women all over Europe gather to seek the face of God\,to be Revive and to be Restore.☆Mark the Dates\,invites the sick and those held bound by the enemies.☆Bring all manner of cases.Last year was great\,but this year shall be super great and super glorious.☆Instructions:Invites and keep sharing till it get to someone
URL:https://cyprus-churches.com/event/cyprus-apostolic-invasion-conference-2025/
LOCATION:RCCG Bethel Parish Church\, Aglantzias 83\, Nicosia\, Aglantzia\, 2112\, Cyprus
CATEGORIES:Nicosia
ORGANIZER;CN="RCCG Bethel Parish Nicosia":MAILTO:agwote@gmail.com
END:VEVENT
BEGIN:VEVENT
DTSTART;TZID=UTC:20250719T130000
DTEND;TZID=UTC:20250719T170000
DTSTAMP:20260419T134353
CREATED:20250718T085521Z
LAST-MODIFIED:20260123T143933Z
UID:1295-1752930000-1752944400@cyprus-churches.com
SUMMARY:Church Retreat
DESCRIPTION:The Church of Pentecost North Cyprus\nis inviting for a\nChurch Retreat\nTheme: DWELL (Psalm 91:1)
URL:https://cyprus-churches.com/event/church-retreat/
LOCATION:The Church of Pentecost North Cyprus\, Gazeteci Kemal Aşık Caddesi 1\, Lefkoşa\, 99010\, Cyprus
CATEGORIES:North Cyprus
END:VEVENT
BEGIN:VEVENT
DTSTART;TZID=UTC:20250722T080000
DTEND;TZID=UTC:20250722T090000
DTSTAMP:20260419T134353
CREATED:20250513T140738Z
LAST-MODIFIED:20260123T143923Z
UID:1047-1753171200-1753174800@cyprus-churches.com
SUMMARY:YFC Summer Camp 2025
DESCRIPTION:Ages: 12-18\nDM them here to get your digital form or call on 97743921 for more details
URL:https://cyprus-churches.com/event/yfc-summer-camp-2025/
LOCATION:Troodos\, Cyprus
CATEGORIES:Troodos
END:VEVENT
BEGIN:VEVENT
DTSTART;TZID=UTC:20250724T000000
DTEND;TZID=UTC:20250727T010000
DTSTAMP:20260419T134353
CREATED:20250724T105639Z
LAST-MODIFIED:20250726T071640Z
UID:1308-1753315200-1753578000@cyprus-churches.com
SUMMARY:HELP FIRE VICTIMS - Помощь пострадавшим от пожара
DESCRIPTION:Holy Trinity Church – Церковь “Святая Троица”\n has organized a collection of essential items to help those affected by the fire.\nAddress and contact details are listed below.\nСбор самого необходимого для помощи пострадавшим от пожара. \nАдрес и телефоны ниже \n  \n+357 96740035 русский язык\n+357 96 632650 English & Greek\n 
URL:https://cyprus-churches.com/event/help-fire-victims/
LOCATION:Церковь “Святая Троица”\, Ioannou Kondilaki 15\, Limassol\, 3026\, Cyprus
END:VEVENT
BEGIN:VEVENT
DTSTART;TZID=UTC:20250725T080000
DTEND;TZID=UTC:20250727T133000
DTSTAMP:20260419T134353
CREATED:20250726T064941Z
LAST-MODIFIED:20251224T104031Z
UID:1317-1753430400-1753623000@cyprus-churches.com
SUMMARY:Help Fire Victims
DESCRIPTION:Paphos Christian Fellowship International\nis calling everyone who are able or willing to help the victims of the fire to help provide the following: \n\nToilet paper rools\nEye drops\nBurn creams\nPanadoll\nNurofen\nBottles of drinking water\nAdult diapers\nBaby diapers\nBaby bottles\nDummies/pacifiers\nPerishable foods\, dry and canned\n\n  \nPlease send contact the church if you want to help. Here is the Instagram page\n 
URL:https://cyprus-churches.com/event/help-fire-victims-pcif/
LOCATION:Paphos Christian Fellowship International Church\, Adamantiou Korai 12\, Kato Paphos\, Paphos\, 8046\, Cyprus
CATEGORIES:Larnaca
END:VEVENT
BEGIN:VEVENT
DTSTART;TZID=UTC:20250725T093000
DTEND;TZID=UTC:20250727T123000
DTSTAMP:20260419T134353
CREATED:20250726T070206Z
LAST-MODIFIED:20251224T104023Z
UID:1322-1753435800-1753619400@cyprus-churches.com
SUMMARY:Help Fire Victims
DESCRIPTION:Petra Church\nis calling everyone who are able or willing to help the victims of the fire to help provide the following: \n\nToilet papers\nEye drops\nBurn creams\nPanadoll\nNurofen\nBottles of drinking water\nAdult diapers\nBed sheets\nPillows\nPillow cases\nBaby diapers\nBaby bottles\nElectric fans\nElectric stove tops\nDummies/pacifiers\nNon-perishables foods\n\nDrop off point is Petra Church in Paphos this Sunday from 09:30 to 12:30\nContacts: +357 99105044\, +357 763992
URL:https://cyprus-churches.com/event/help-fire-victims-petra-church/
LOCATION:Petra Church\, 106 Mesogis Avenue\, Mesogi\, Paphos\, 8280\, Cyprus
END:VEVENT
BEGIN:VEVENT
DTSTART;TZID=UTC:20250725T100000
DTEND;TZID=UTC:20250727T123000
DTSTAMP:20260419T134353
CREATED:20250726T063344Z
LAST-MODIFIED:20251224T104015Z
UID:1313-1753437600-1753619400@cyprus-churches.com
SUMMARY:Help Fire Victims
DESCRIPTION:Freedom Church\nis collecting essential goods to support the Cyprus Red Cross fire relief efforts. \nYou can help by donating any of the following: \n\nDry food (non-perishable)\nNappies & baby wipes\nBaby formula\nPersonal hygeine products\n\n  \nDrop-off locations available at: \n\nFreedom Church in Limassol on Sunday\, July 27\nCyprus Red Cross Limassol Branch – Agias Fylaxeos – weekdays from 08:30 to 13:30\n\n  \nAlternatively\, if you would prefer to make a cash donation directly to the Cyprus Red Cross\, please see the details below: \nNAME: Kypriakos Erythros Stavros \nACCOUNT: 011305057950 \nIBAN: CY35 0020 0113 0000 0005 0579 5000 \nBIC: BCYPCY2N \nBANK OF CYPRUS PUBLIC COMPANY LIMITED \n 
URL:https://cyprus-churches.com/event/help-fire-victims-freedom-church/
LOCATION:Freedom Church Limassol\, Tositsa\, Limassol\, Limassol\, 3036\, Cyprus
CATEGORIES:Larnaca
END:VEVENT
BEGIN:VEVENT
DTSTART;TZID=UTC:20250726T113000
DTEND;TZID=UTC:20250726T130000
DTSTAMP:20260419T134353
CREATED:20250512T144032Z
LAST-MODIFIED:20251224T103956Z
UID:1041-1753529400-1753534800@cyprus-churches.com
SUMMARY:Young Adults Group
DESCRIPTION:You are invited to\nYoung Adults Groups\ncreated by Worship in Cyprus Team\n  \nTopic: The Covenant\nGenesis 15\n  \nLet’s meet in Park Beach Hotel next to Pizza Hut Dasoudi. Create a route with Google Map below\n  \nFor additional info please contact Worship in Cyprus Team
URL:https://cyprus-churches.com/event/young-adults-group/
LOCATION:Park Beach Hotel Limassol\, 12\, Georgiou A Avenue\, Germasogeia\, Limassol\, 4047\, Cyprus
CATEGORIES:Larnaca
END:VEVENT
BEGIN:VEVENT
DTSTART;VALUE=DATE:20250728
DTEND;VALUE=DATE:20250801
DTSTAMP:20260419T134353
CREATED:20250605T054530Z
LAST-MODIFIED:20251224T103946Z
UID:1146-1753660800-1754006399@cyprus-churches.com
SUMMARY:Семейная конференция
DESCRIPTION:Holy Trinity Church – Церковь “Святая Троица”\nприглашает на\nсемейную конференцию\nТема: “Семья в свете Библии”\nСпикеры: Сергей и Ирина Ястржембские \nРегистрация по номеру: +35796696031\n\nВыбор спутника жизни\nСвятой треугольник\nЛовушка в выборе спутника жизни\nСвидание и как правильно расстаться\nБожий замысел о семье и ролях в браке\nОснование брака: любовь или завет?\nРешение конфликтов\nИнтимные отношения\nФинансы в семье\nПриоритеты: семья\, служение\, работа\, отдых\, совместный духовный рост\n\n 
URL:https://cyprus-churches.com/event/family-conference/
LOCATION:Limassol
CATEGORIES:Limassol
END:VEVENT
BEGIN:VEVENT
DTSTART;VALUE=DATE:20250728
DTEND;VALUE=DATE:20250813
DTSTAMP:20260419T134353
CREATED:20250716T094655Z
LAST-MODIFIED:20251224T103937Z
UID:1289-1753660800-1755043199@cyprus-churches.com
SUMMARY:Free Chinese Classes by Bible
DESCRIPTION:Immanuel Church\nis inviting for\nFree Mandarin Classes in Nicoisa\n\nDiscover CHINESE by Bible\n\nFree Mandarin Class in Nicoisa!\nFree of charge!\nAll levels welcome !\n\nTaught in English & Chinese & Holy Bible !\nContact via WhatsApp 96380863
URL:https://cyprus-churches.com/event/free-chinese-classes-by-bible/
LOCATION:Immanuel Church\, Michalaki Charalambous 3\, Nicosia\, 2103\, Cyprus
CATEGORIES:Nicosia
ATTACH;FMTTYPE=image/jpeg:https://cyprus-churches.com/wp-content/uploads/2025/07/chinese-bible-study.jpg
END:VEVENT
BEGIN:VEVENT
DTSTART;TZID=UTC:20250729T100000
DTEND;TZID=UTC:20250729T160000
DTSTAMP:20260419T134353
CREATED:20250630T104855Z
LAST-MODIFIED:20251224T103929Z
UID:1272-1753783200-1753804800@cyprus-churches.com
SUMMARY:Fun and Fellowship - Day in Waterpark
DESCRIPTION:Youth for Christ Cyprus Team\nis inviting for a\nDay in a Waterpark!\nAges 12-18\n  \nLet’s meet in Fasouri Waterpark in Limassol. Need help to find? Contact us in Instagram for details\n  \n21 euro with a meal and drink!
URL:https://cyprus-churches.com/event/day-in-waterpart-limassol/
LOCATION:Fasouri Waterpark\, Fasouri\, 3311\, Cyprus
CATEGORIES:Limassol
END:VEVENT
END:VCALENDAR